BEGIN:VCALENDAR
VERSION:2.0
PRODID:-//LilBigness - ECPv6.15.20//NONSGML v1.0//EN
CALSCALE:GREGORIAN
METHOD:PUBLISH
X-ORIGINAL-URL:https://lilbigness.com
X-WR-CALDESC:Evenementen voor LilBigness
REFRESH-INTERVAL;VALUE=DURATION:PT1H
X-Robots-Tag:noindex
X-PUBLISHED-TTL:PT1H
BEGIN:VTIMEZONE
TZID:America/Paramaribo
BEGIN:STANDARD
TZOFFSETFROM:-0300
TZOFFSETTO:-0300
TZNAME:-03
DTSTART:20250101T000000
END:STANDARD
END:VTIMEZONE
BEGIN:VTIMEZONE
TZID:UTC
BEGIN:STANDARD
TZOFFSETFROM:+0000
TZOFFSETTO:+0000
TZNAME:UTC
DTSTART:20240101T000000
END:STANDARD
END:VTIMEZONE
BEGIN:VEVENT
DTSTART;TZID=America/Paramaribo:20260118T120000
DTEND;TZID=America/Paramaribo:20260118T170000
DTSTAMP:20260421T114525
CREATED:20251110T224346Z
LAST-MODIFIED:20251205T224841Z
UID:5776-1768737600-1768755600@lilbigness.com
SUMMARY:Bezoek aan bejaarden tehuizen.
DESCRIPTION:[vc_row][vc_column][vc_column_text css=””]We are aware of what the elderly has done\, seen and experienced to put us in a much better living situation and environment today. If we are complaining about life at present imaging their life back in those days. Since we of LilBiGness become known of their hard work and suffer for a better today for us\, we decided to show gratitude\, love\, respect and appreciation for not only their effort and endurance but also for their presence and wisdom. LilBiGness will therefore contribute as much as possible to the care and wellbeing of the needy elderly within society. We love and cherish them and will try not to waste\, neglect or disrespect their input but rather embrace and continue to build on it.[/vc_column_text][/vc_column][/vc_row] \nBalanzOh yes definitely\, here comes my Biography
URL:https://lilbigness.com/event/bezoek-bejaarden-huizen/
LOCATION:Huize Asiana\, Paramaribo\, Suriname
CATEGORIES:Charity
ATTACH;FMTTYPE=image/png:https://lilbigness.com/wp-content/uploads/2025/11/Oldhome.png
ORGANIZER;CN="LilBiGness":MAILTO:info@lilbigness.com
END:VEVENT
BEGIN:VEVENT
DTSTART;TZID=UTC:20251207T150000
DTEND;TZID=UTC:20251207T170000
DTSTAMP:20260421T114525
CREATED:20251110T222756Z
LAST-MODIFIED:20251205T220913Z
UID:5767-1765119600-1765126800@lilbigness.com
SUMMARY:Film Middag
DESCRIPTION:[vc_row][vc_column][vc_single_image image=”5933″ css=””][/vc_column][/vc_row][vc_row][vc_column][vc_column_text css=””]The charitable side of LilBiGness is at it again. We are very proud and happy to have been given the opportunity to spend some times with these residents and learn a lot more about them. On this day\, we will be entertaining the residents of this home with a movie afternoon\, treat them with some appetizers and engage with them in exiting game-playing.[/vc_column_text][/vc_column][/vc_row] \nBalanzOh yes definitely\, here comes my Biography
URL:https://lilbigness.com/event/film-middag/
LOCATION:Huize TylTyl\, Paramaribo\, Suriname
CATEGORIES:Charity
ATTACH;FMTTYPE=image/gif:https://lilbigness.com/wp-content/uploads/2025/11/Blk-Kids.gif
ORGANIZER;CN="LilBiGness":MAILTO:info@lilbigness.com
END:VEVENT
END:VCALENDAR